BEGIN:VCALENDAR
VERSION:2.0
PRODID:-//wp-events-plugin.com//7.2.3.1//EN
TZID:America/New_York
X-WR-TIMEZONE:America/New_York
BEGIN:VEVENT
UID:97@somerschamber.com
DTSTART;TZID=America/New_York:20220125T190000
DTEND;TZID=America/New_York:20220125T194500
DTSTAMP:20220119T154156Z
URL:https://somerschamber.com/events/bottom-line-concepts-consulting-firm/
SUMMARY:Bottom Line Concepts Consulting Firm ZOOM
DESCRIPTION:ZOOM information and ZOOM link will be sent to your email the d
 ay of the event\n\nBottom Line Concepts Consulting Firm is hosting a ZOOM 
 meeting assisting in the Employee Retention Credit (ERC) Program.   Open t
 o all companies between 3-500 employees. Your business could be getting up
  to $26\,000 per employee in Employee Retention Credits (ERC)\, even if yo
 u received PPP loans.  Bottom Line Concepts will help you maximize the 
 money you will get from this Federal Government Program in the quickest ti
 me possible! \nWith Bottom Line Concepts\, you’re a valued client. \nTh
 eir professionals will: \nDetermine whether your business qualifies for t
 he ERC Program\nCalculate the maximum amount you can receive\nGuide you th
 rough the claiming process\, from beginning to end\nTo learn more about th
 e ERC Program please visit their website: GovernmentAid.com
CATEGORIES:Upcoming Events
END:VEVENT
BEGIN:VTIMEZONE
TZID:America/New_York
X-LIC-LOCATION:America/New_York
BEGIN:STANDARD
DTSTART:20211107T010000
TZOFFSETFROM:-0400
TZOFFSETTO:-0500
TZNAME:EST
END:STANDARD
END:VTIMEZONE
END:VCALENDAR