BEGIN:VCALENDAR
VERSION:2.0
PRODID:-//wp-events-plugin.com//7.2.3.1//EN
TZID:America/New_York
X-WR-TIMEZONE:America/New_York
BEGIN:VEVENT
UID:72@somerschamber.com
DTSTART;TZID=America/New_York:20191002T180000
DTEND;TZID=America/New_York:20191002T200000
DTSTAMP:20190918T033647Z
URL:https://somerschamber.com/events/business-to-business-october-networki
 ng-event/
SUMMARY:Business to Business October Networking Event
DESCRIPTION:Free Business to Business Event\n\nDeCicco &amp\; Sons Bar Kitc
 hen and Lounge\n\nLocated on the 2nd floor\n\nAppetizers and Cash Bar\n\n&
 nbsp\;
LOCATION:DeCicco & Sons\, 266 US-202\, Somers\, New York\, 10589\, United S
 tates
GEO:41.3274739;-73.6884756
X-APPLE-STRUCTURED-LOCATION;VALUE=URI;X-ADDRESS=266 US-202\, Somers\, New Y
 ork\, 10589\, United States;X-APPLE-RADIUS=100;X-TITLE=DeCicco & Sons:geo:
 41.3274739,-73.6884756
END:VEVENT
BEGIN:VTIMEZONE
TZID:America/New_York
X-LIC-LOCATION:America/New_York
BEGIN:DAYLIGHT
DTSTART:20190310T030000
TZOFFSETFROM:-0500
TZOFFSETTO:-0400
TZNAME:EDT
END:DAYLIGHT
END:VTIMEZONE
END:VCALENDAR