BEGIN:VCALENDAR
VERSION:2.0
PRODID:-//wp-events-plugin.com//7.2.3.1//EN
TZID:America/New_York
X-WR-TIMEZONE:America/New_York
BEGIN:VEVENT
UID:147@somerschamber.com
DTSTART;TZID=America/New_York;VALUE=DATE:20250917
DTEND;TZID=America/New_York;VALUE=DATE:20250918
DTSTAMP:20250919T024244Z
URL:https://somerschamber.com/events/celebrate-somers-2/
SUMMARY:Celebrate Somers 2025 Registration
DESCRIPTION:\n\nCELEBRATE SOMERS 2025\n\nCAR SHOW\, FAMILY FUN\, FOOD TRUCK
 S\, MUSIC\, ENTERTAINMENT\, DANCERS\n\n\n\n\n\n\n\nWHERE COMMUNITY AND LOC
 AL BUSINESSES SHINE\n\nCLICK LINK TO REGISTER YOUR BUSINESS\n\nhttps://for
 ms.gle/h8pcFywVZXM6AFsY9\n\n\n\n\n
ATTACH;FMTTYPE=image/jpeg:https://somerschamber.com/wp-content/uploads/202
 5/04/Celebrate-Somers-Flyer-2025.jpg
LOCATION:Somers Towne Center\, 325 Route 100\, Somers\, New York\, 10589\, 
 United States
GEO:41.3264045;-73.68775929999998
X-APPLE-STRUCTURED-LOCATION;VALUE=URI;X-ADDRESS=325 Route 100\, Somers\, Ne
 w York\, 10589\, United States;X-APPLE-RADIUS=100;X-TITLE=Somers Towne Cen
 ter:geo:41.3264045,-73.68775929999998
END:VEVENT
BEGIN:VTIMEZONE
TZID:America/New_York
X-LIC-LOCATION:America/New_York
BEGIN:DAYLIGHT
DTSTART:20250309T030000
TZOFFSETFROM:-0500
TZOFFSETTO:-0400
TZNAME:EDT
END:DAYLIGHT
END:VTIMEZONE
END:VCALENDAR