BEGIN:VCALENDAR
VERSION:2.0
PRODID:-//wp-events-plugin.com//7.2.3.1//EN
TZID:America/New_York
X-WR-TIMEZONE:America/New_York
BEGIN:VEVENT
UID:67@somerschamber.com
DTSTART;TZID=America/New_York:20190907T100000
DTEND;TZID=America/New_York:20190907T150000
DTSTAMP:20190906T230000Z
URL:https://somerschamber.com/events/celebrate-somers-2019-vendor-space-re
 gistration/
SUMMARY:Celebrate Somers 2019 Vendor Space Registration
DESCRIPTION:Registration is now closed\nSpace Application: Celebrate Somers
  - Saturday\, September 7th\, 2019 10am-3pm\n\nThank you for your interest
  in being part of Celebrate Somers Community Day! To reserve a space for t
 his event\, please fill out the application and return with payment online
  by August 24th. If you have questions\, please contact Ann Marie Demm at 
 (914) 276-3904 or info@somerschamber.com.\n\nPLEASE NOTE: Space reserved a
 fter 8/24/19 will be subject to a $10 late registration fee in addition t
 o the prices above. \n\nBy clicking the mandatory "I agree to the Terms an
 d Conditions" or submitting payment the undersigned vendor agrees to all t
 he Terms and Conditions and to pay a non-refundable space rental fee.\n&nb
 sp\;\nPayment can be made via credit card by clicking on the PayPal link (
 you do not need to have a PayPal account) and there is a place where you c
 an enter any credit card for payment.\n\nIf you are mailing in a check\, p
 lease complete the form and return checks (made out to Somers Chamber of C
 ommerce) by August 24th:\n\nSomers Chamber of Commerce\nPO Box 602\nSomers
 \, NY 10589
CATEGORIES:Upcoming Events
LOCATION:Somers Towne Centre\, 325 NY-100\, Somers\, NY\, 10589\, United St
 ates
GEO:41.3264045;-73.68775929999998
X-APPLE-STRUCTURED-LOCATION;VALUE=URI;X-ADDRESS=325 NY-100\, Somers\, NY\, 
 10589\, United States;X-APPLE-RADIUS=100;X-TITLE=Somers Towne Centre:geo:4
 1.3264045,-73.68775929999998
END:VEVENT
BEGIN:VTIMEZONE
TZID:America/New_York
X-LIC-LOCATION:America/New_York
BEGIN:DAYLIGHT
DTSTART:20190310T030000
TZOFFSETFROM:-0500
TZOFFSETTO:-0400
TZNAME:EDT
END:DAYLIGHT
END:VTIMEZONE
END:VCALENDAR