BEGIN:VCALENDAR
VERSION:2.0
PRODID:-//wp-events-plugin.com//7.2.3.1//EN
TZID:America/New_York
X-WR-TIMEZONE:America/New_York
BEGIN:VEVENT
UID:57@somerschamber.com
DTSTART;TZID=America/New_York:20181212T180000
DTEND;TZID=America/New_York:20181212T210000
DTSTAMP:20181118T151855Z
URL:https://somerschamber.com/events/chamber-holiday-party/
SUMMARY:Chamber Holiday Party
DESCRIPTION:
LOCATION:Mamma Rosa\, 254 Route 100\, Somers\, NY\, 10589\, United States
GEO:41.3085058;-73.69464729999999
X-APPLE-STRUCTURED-LOCATION;VALUE=URI;X-ADDRESS=254 Route 100\, Somers\, NY
 \, 10589\, United States;X-APPLE-RADIUS=100;X-TITLE=Mamma Rosa:geo:41.3085
 058,-73.69464729999999
END:VEVENT
BEGIN:VTIMEZONE
TZID:America/New_York
X-LIC-LOCATION:America/New_York
BEGIN:STANDARD
DTSTART:20181104T010000
TZOFFSETFROM:-0400
TZOFFSETTO:-0500
TZNAME:EST
END:STANDARD
END:VTIMEZONE
END:VCALENDAR