BEGIN:VCALENDAR
VERSION:2.0
PRODID:-//wp-events-plugin.com//7.2.3.1//EN
TZID:America/New_York
X-WR-TIMEZONE:America/New_York
BEGIN:VEVENT
UID:112@somerschamber.com
DTSTART;TZID=America/New_York:20230215T180000
DTEND;TZID=America/New_York:20230215T210000
DTSTAMP:20230215T025115Z
URL:https://somerschamber.com/events/february-dinner-speaker-event/
SUMMARY:February Dinner & Speaker Event
DESCRIPTION:5 Highly Effective Productivity Habits That Will Help You Make 
 Better\, Faster Progress\n\nDescription:  You want to be more productive. 
 That’s great! While strategies like time blocking\, using a calendar\, a
 nd “eating your frog” first can help you achieve that\, developing bet
 ter productivity HABITS will take you much further in the long run. In thi
 s talk\, Theresa will share five productivity habits that will make a posi
 tive impact on your productivity\, but you’ve probably not considered be
 fore.\n
LOCATION:Mamma Rosa\, 254 Route 100\, Somers\, NY\, 10589\, United States
GEO:41.3085058;-73.69464729999999
X-APPLE-STRUCTURED-LOCATION;VALUE=URI;X-ADDRESS=254 Route 100\, Somers\, NY
 \, 10589\, United States;X-APPLE-RADIUS=100;X-TITLE=Mamma Rosa:geo:41.3085
 058,-73.69464729999999
END:VEVENT
BEGIN:VTIMEZONE
TZID:America/New_York
X-LIC-LOCATION:America/New_York
BEGIN:STANDARD
DTSTART:20221106T010000
TZOFFSETFROM:-0400
TZOFFSETTO:-0500
TZNAME:EST
END:STANDARD
END:VTIMEZONE
END:VCALENDAR