BEGIN:VCALENDAR
VERSION:2.0
PRODID:-//wp-events-plugin.com//7.2.3.1//EN
TZID:America/New_York
X-WR-TIMEZONE:America/New_York
BEGIN:VEVENT
UID:143@somerschamber.com
DTSTART;TZID=America/New_York:20260225T180000
DTEND;TZID=America/New_York:20260225T200000
DTSTAMP:20260131T020856Z
URL:https://somerschamber.com/events/multi-chamber-mixer/
SUMMARY:Multi Chamber Mixer
DESCRIPTION:Join us for a fun evening of mingling and networking with both 
 Brewater and Mahopac chambers.\n\nUpstairs at DeCiccos's in Somers -  Buf
 fet / Cash Bar
LOCATION:DeCicco & Sons\, 266 Route 202\, Somers\, United States
GEO:40.9981224;-74.27377619999999
X-APPLE-STRUCTURED-LOCATION;VALUE=URI;X-ADDRESS=266 Route 202\, Somers\, Un
 ited States;X-APPLE-RADIUS=100;X-TITLE=DeCicco & Sons:geo:40.9981224,-74.2
 7377619999999
END:VEVENT
BEGIN:VTIMEZONE
TZID:America/New_York
X-LIC-LOCATION:America/New_York
BEGIN:STANDARD
DTSTART:20251102T010000
TZOFFSETFROM:-0400
TZOFFSETTO:-0500
TZNAME:EST
END:STANDARD
END:VTIMEZONE
END:VCALENDAR