BEGIN:VCALENDAR
VERSION:2.0
PRODID:-//wp-events-plugin.com//7.2.3.1//EN
TZID:America/New_York
X-WR-TIMEZONE:America/New_York
BEGIN:VEVENT
UID:12@somerschamber.com
DTSTART;TZID=America/New_York:20161116T180000
DTEND;TZID=America/New_York:20161116T210000
DTSTAMP:20161116T230522Z
URL:https://somerschamber.com/events/november-speaker-meeting/
SUMMARY:November Speaker Meeting
DESCRIPTION:PLEASE NOTE A CHANGE IN MEETING TOPIC!!!!!!!\n\nALL ARE WELCOME
 \, PAYMENT CAN BE MADE AT THE DOOR!\n\n&nbsp\;\n\nPayment can be made via 
 Credit Card through the paypal link without having a paypal account.
LOCATION:Mama Rosa\, 254 Rt 100\, Somers\, NY\, 10589\, United States
GEO:41.3085058;-73.69464729999999
X-APPLE-STRUCTURED-LOCATION;VALUE=URI;X-ADDRESS=254 Rt 100\, Somers\, NY\, 
 10589\, United States;X-APPLE-RADIUS=100;X-TITLE=Mama Rosa:geo:41.3085058,
 -73.69464729999999
END:VEVENT
BEGIN:VTIMEZONE
TZID:America/New_York
X-LIC-LOCATION:America/New_York
BEGIN:STANDARD
DTSTART:20161106T010000
TZOFFSETFROM:-0400
TZOFFSETTO:-0500
TZNAME:EST
END:STANDARD
END:VTIMEZONE
END:VCALENDAR