BEGIN:VCALENDAR
VERSION:2.0
PRODID:-//wp-events-plugin.com//7.2.3.1//EN
TZID:America/New_York
X-WR-TIMEZONE:America/New_York
BEGIN:VEVENT
UID:17@somerschamber.com
DTSTART;TZID=America/New_York:20170118T180000
DTEND;TZID=America/New_York:20170118T200000
DTSTAMP:20170112T041703Z
URL:https://somerschamber.com/events/speed-networking-meeting/
SUMMARY:Speed Networking Meeting
DESCRIPTION:
LOCATION:Somers Community Center\, 34 Hillandale Ave\, yorktown Heights\, N
 Y\, 10598\, United States
GEO:41.3332989;-73.74090999999999
X-APPLE-STRUCTURED-LOCATION;VALUE=URI;X-ADDRESS=34 Hillandale Ave\, yorktow
 n Heights\, NY\, 10598\, United States;X-APPLE-RADIUS=100;X-TITLE=Somers C
 ommunity Center:geo:41.3332989,-73.74090999999999
END:VEVENT
BEGIN:VTIMEZONE
TZID:America/New_York
X-LIC-LOCATION:America/New_York
BEGIN:STANDARD
DTSTART:20161106T010000
TZOFFSETFROM:-0400
TZOFFSETTO:-0500
TZNAME:EST
END:STANDARD
END:VTIMEZONE
END:VCALENDAR