BEGIN:VCALENDAR
VERSION:2.0
PRODID:-//wp-events-plugin.com//7.2.3.1//EN
TZID:America/New_York
X-WR-TIMEZONE:America/New_York
BEGIN:VEVENT
UID:152@somerschamber.com
DTSTART;TZID=America/New_York:20260415T180000
DTEND;TZID=America/New_York:20260415T210000
DTSTAMP:20260331T015008Z
URL:https://somerschamber.com/events/the-town-of-somers-and-its-effect-on-
 small-business/
SUMMARY:The Town of Somers and Its Effect on Small Business
DESCRIPTION:Join us for a 4 course dinner at Mamma Rosa with special guest 
 speaker Rob Scorrano Somers Town Supervisor. A event not to be missed!
LOCATION:Mamma Rosa\, 254 Route 100\, Somers\, NY\, 10589\, United States
GEO:41.3085058;-73.69464729999999
X-APPLE-STRUCTURED-LOCATION;VALUE=URI;X-ADDRESS=254 Route 100\, Somers\, NY
 \, 10589\, United States;X-APPLE-RADIUS=100;X-TITLE=Mamma Rosa:geo:41.3085
 058,-73.69464729999999
END:VEVENT
BEGIN:VTIMEZONE
TZID:America/New_York
X-LIC-LOCATION:America/New_York
BEGIN:DAYLIGHT
DTSTART:20260308T030000
TZOFFSETFROM:-0500
TZOFFSETTO:-0400
TZNAME:EDT
END:DAYLIGHT
END:VTIMEZONE
END:VCALENDAR